BEGIN:VCALENDAR
VERSION:2.0
PRODID:-//Cattail Crossing Golf and Winter Club - ECPv6.4.0.1//NONSGML v1.0//EN
CALSCALE:GREGORIAN
METHOD:PUBLISH
X-ORIGINAL-URL:https://cattailcrossing.ca
X-WR-CALDESC:Events for Cattail Crossing Golf and Winter Club
REFRESH-INTERVAL;VALUE=DURATION:PT1H
X-Robots-Tag:noindex
X-PUBLISHED-TTL:PT1H
BEGIN:VTIMEZONE
TZID:America/Edmonton
BEGIN:DAYLIGHT
TZOFFSETFROM:-0700
TZOFFSETTO:-0600
TZNAME:MDT
DTSTART:20240310T090000
END:DAYLIGHT
BEGIN:STANDARD
TZOFFSETFROM:-0600
TZOFFSETTO:-0700
TZNAME:MST
DTSTART:20241103T080000
END:STANDARD
END:VTIMEZONE
BEGIN:VEVENT
DTSTART;TZID=America/Edmonton:20241211T173000
DTEND;TZID=America/Edmonton:20241211T223000
DTSTAMP:20260423T092502
CREATED:20231123T185838Z
LAST-MODIFIED:20241101T165446Z
UID:10001963-1733938200-1733956200@cattailcrossing.ca
SUMMARY:HML Whoville Christmas Fundraiser - We 'Wreath' You a Merry Christmas
DESCRIPTION:Join Us for the 8th Annual Christmas Fundraiser: We ‘Wreath’ You a Merry Christmas! \nGet ready for a magical evening at our 8th Annual Whoville Christmas Fundraiser on Wednesday\, December 11th\, at Out of Bounds Restaurant in Cattail Crossing! Doors open at 5:30 PM\, inviting you to a night filled with festive fun\, creativity\, and community spirit that you won’t want to miss! \nFor the fourth consecutive year\, we’re thrilled to support the St. Albert Kinettes and their Christmas Hamper Campaign\, dedicated to helping 150-300 families in need with food and toy hampers. Thanks to your incredible generosity\, we raised over $40\,000 last year\, significantly impacting the lives of many families by providing not only a festive Christmas dinner but also two weeks’ worth of groceries and thoughtful gifts for every family member. \nTickets are just $120 per person or gather your friends and grab a table of 8 for $900—because the more\, the merrier! Delight in a gourmet buffet dinner\, kick off the festivities with a complimentary drink\, and unleash your creativity when building your DIY burlap Christmas wreath. Plus\, get ready to bid on amazing items during our silent and live auctions! \nDon’t miss the chance to enjoy laughs and entertainment from the incredible Ryder and Lisa\, your favorite morning radio hosts from play107! \nWhether you’re celebrating with friends\, family\, or colleagues\, this event is the perfect way to embrace the holiday spirit. Let’s unite in true Whoville fashion and make this season unforgettable! \nMark your calendars and join us in spreading joy this holiday season! Together\, we can continue to bring smiles and warmth to families in our community\, ensuring everyone experiences the magic of Christmas!
URL:https://cattailcrossing.ca/event/hml-whoville-christmas-fundraiser/
LOCATION:Cattail Crossing\, 24427 Township Rd 542\,\, Edmonton\, Alberta\, T8T 1L4\, Canada
END:VEVENT
END:VCALENDAR