BEGIN:VCALENDAR
VERSION:2.0
PRODID:-//Cattail Crossing Golf and Winter Club - ECPv6.4.0.1//NONSGML v1.0//EN
CALSCALE:GREGORIAN
METHOD:PUBLISH
X-WR-CALNAME:Cattail Crossing Golf and Winter Club
X-ORIGINAL-URL:https://cattailcrossing.ca
X-WR-CALDESC:Events for Cattail Crossing Golf and Winter Club
REFRESH-INTERVAL;VALUE=DURATION:PT1H
X-Robots-Tag:noindex
X-PUBLISHED-TTL:PT1H
BEGIN:VTIMEZONE
TZID:America/Edmonton
BEGIN:DAYLIGHT
TZOFFSETFROM:-0700
TZOFFSETTO:-0600
TZNAME:MDT
DTSTART:20260308T090000
END:DAYLIGHT
BEGIN:STANDARD
TZOFFSETFROM:-0600
TZOFFSETTO:-0700
TZNAME:MST
DTSTART:20261101T080000
END:STANDARD
END:VTIMEZONE
BEGIN:VEVENT
DTSTART;TZID=America/Edmonton:20260510T090000
DTEND;TZID=America/Edmonton:20260510T140000
DTSTAMP:20260421T175836
CREATED:20260421T172104Z
LAST-MODIFIED:20260421T172104Z
UID:10002528-1778403600-1778421600@cattailcrossing.ca
SUMMARY:Mother's Day Brunch Buffet
DESCRIPTION:Celebrate Mother’s Day with a relaxed\, elevated brunch at Out of Bounds Restaurant. Join us for a thoughtfully prepared buffet featuring a mix of classic favourites and indulgent brunch staples — the perfect way to treat Mom. \nFrom fresh pastries and fruit to smoked salmon\, eggs benedict\, and warm waffles with berry sauce\, there’s something for everyone to enjoy. \nReservations are required. \n\n\n\n\n \n 
URL:https://cattailcrossing.ca/event/mothers-day-brunch-buffet/
LOCATION:Cattail Crossing\, 24427 Township Rd 542\,\, Edmonton\, Alberta\, T8T 1L4\, Canada
CATEGORIES:Brunch,Out of Bounds Restaurant
ATTACH;FMTTYPE=image/png:https://cattailcrossing.ca/wp-content/uploads/2026/04/Website-Graphic-Mothers-Day-2026.png
END:VEVENT
END:VCALENDAR