BEGIN:VCALENDAR
VERSION:2.0
PRODID:-//Cattail Crossing Golf and Winter Club - ECPv6.4.0.1//NONSGML v1.0//EN
CALSCALE:GREGORIAN
METHOD:PUBLISH
X-ORIGINAL-URL:https://cattailcrossing.ca
X-WR-CALDESC:Events for Cattail Crossing Golf and Winter Club
REFRESH-INTERVAL;VALUE=DURATION:PT1H
X-Robots-Tag:noindex
X-PUBLISHED-TTL:PT1H
BEGIN:VTIMEZONE
TZID:America/Denver
BEGIN:DAYLIGHT
TZOFFSETFROM:-0700
TZOFFSETTO:-0600
TZNAME:MDT
DTSTART:20260308T090000
END:DAYLIGHT
BEGIN:STANDARD
TZOFFSETFROM:-0600
TZOFFSETTO:-0700
TZNAME:MST
DTSTART:20261101T080000
END:STANDARD
END:VTIMEZONE
BEGIN:VEVENT
DTSTART;TZID=America/Denver:20260527T150000
DTEND;TZID=America/Denver:20260527T190000
DTSTAMP:20260421T180202
CREATED:20260421T142800Z
LAST-MODIFIED:20260421T142936Z
UID:10002526-1779894000-1779908400@cattailcrossing.ca
SUMMARY:Callaway Club Fittings
DESCRIPTION:Get ready to elevate your game with exclusive Callaway club fittings at Cattail Crossing Golf & Winter Club! \n\nHave questions? Contact Jason at 780-973-6686 or jason@cattailcrossing.ca for more information\, available appointment times\, or any other inquiries you might have. \nWe can’t wait to see you at the club and help you take your game to the next level! \n\nSpots are limited\, so secure yours today by clicking the link below.
URL:https://cattailcrossing.ca/event/callaway-club-fittings-2/
LOCATION:Cattail Crossing\, 24427 Township Rd 542\,\, Edmonton\, Alberta\, T8T 1L4\, Canada
CATEGORIES:Golf
ATTACH;FMTTYPE=image/png:https://cattailcrossing.ca/wp-content/uploads/2026/04/Club-Fittings-Event-Graphic-857x500-1.png
END:VEVENT
END:VCALENDAR