BEGIN:VCALENDAR
VERSION:2.0
PRODID:-//Cattail Crossing Golf and Winter Club - ECPv6.4.0.1//NONSGML v1.0//EN
CALSCALE:GREGORIAN
METHOD:PUBLISH
X-ORIGINAL-URL:https://cattailcrossing.ca
X-WR-CALDESC:Events for Cattail Crossing Golf and Winter Club
REFRESH-INTERVAL;VALUE=DURATION:PT1H
X-Robots-Tag:noindex
X-PUBLISHED-TTL:PT1H
BEGIN:VTIMEZONE
TZID:America/Edmonton
BEGIN:DAYLIGHT
TZOFFSETFROM:-0700
TZOFFSETTO:-0600
TZNAME:MDT
DTSTART:20250309T090000
END:DAYLIGHT
BEGIN:STANDARD
TZOFFSETFROM:-0600
TZOFFSETTO:-0700
TZNAME:MST
DTSTART:20251102T080000
END:STANDARD
END:VTIMEZONE
BEGIN:VEVENT
DTSTART;TZID=America/Edmonton:20250420T100000
DTEND;TZID=America/Edmonton:20250420T140000
DTSTAMP:20260423T012625
CREATED:20250328T183217Z
LAST-MODIFIED:20250328T183321Z
UID:10002498-1745143200-1745157600@cattailcrossing.ca
SUMMARY:Easter Bunny Bash - Sunday\, 20th of April 2025
DESCRIPTION:Join us for a fun-filled Easter Sunday celebration at Out of Bounds Restaurant. Bring the whole family and enjoy a day of festive activities\, great food\, and unforgettable memories. \n\nDate: Sunday\, April 20\, 2025\nTime: 10 AM – 2 PM\nAdmission: Free\n\n  \nFamilies can meet and take photos with the Easter Bunny\, enjoy festive face painting\, and watch the kids take part in an exciting Easter Egg Hunt. Be sure to bring your own basket for collecting eggs. \nWhile you’re here\, make a reservation for brunch on OpenTable and enjoy a delicious meal with your loved ones.
URL:https://cattailcrossing.ca/event/easter-bunny-bash-sunday-20th-of-april-2025/
LOCATION:Cattail Crossing\, 24427 Township Rd 542\,\, Edmonton\, Alberta\, T8T 1L4\, Canada
ATTACH;FMTTYPE=image/png:https://cattailcrossing.ca/wp-content/uploads/2025/03/Eventbrite-Cover-Easter-1.png
END:VEVENT
BEGIN:VEVENT
DTSTART;TZID=America/Edmonton:20250426T170000
DTEND;TZID=America/Edmonton:20250426T233000
DTSTAMP:20260423T012625
CREATED:20250411T171158Z
LAST-MODIFIED:20250411T171158Z
UID:10002501-1745686800-1745710200@cattailcrossing.ca
SUMMARY:Passport to Global Flavours - Flavours of Chile
DESCRIPTION:Flavours of Chile\nGet ready for the 5th dinner in our Passport to Global Flavours dinner series—Flavours of Chile! Chef Jose Cocco will take you on a vibrant journey through Chilean cuisine\, showcasing the bold\, fresh\, and exciting flavours that define this rich culinary tradition. Expect a deliciously unforgettable evening! \nHere’s a sneak peek of the menu: Smoked Tuna\, Chilean Pilpil Prawns\, Lamb Squash/Oyster Mushrooms\, Borrachito Drunk Cake\, and a sweet House Truffle to top it all off! \nSpots fill up fast for these dinners\, so reserve your seats now through OpenTable. \nSee you there!
URL:https://cattailcrossing.ca/event/passport-to-global-flavours-flavours-of-chile/
LOCATION:Cattail Crossing\, 24427 Township Rd 542\,\, Edmonton\, Alberta\, T8T 1L4\, Canada
ATTACH;FMTTYPE=image/jpeg:https://cattailcrossing.ca/wp-content/uploads/2025/04/Title-1.jpg
END:VEVENT
END:VCALENDAR