BEGIN:VCALENDAR
VERSION:2.0
PRODID:-//Cattail Crossing Golf and Winter Club - ECPv6.4.0.1//NONSGML v1.0//EN
CALSCALE:GREGORIAN
METHOD:PUBLISH
X-ORIGINAL-URL:https://cattailcrossing.ca
X-WR-CALDESC:Events for Cattail Crossing Golf and Winter Club
REFRESH-INTERVAL;VALUE=DURATION:PT1H
X-Robots-Tag:noindex
X-PUBLISHED-TTL:PT1H
BEGIN:VTIMEZONE
TZID:America/Edmonton
BEGIN:DAYLIGHT
TZOFFSETFROM:-0700
TZOFFSETTO:-0600
TZNAME:MDT
DTSTART:20250309T090000
END:DAYLIGHT
BEGIN:STANDARD
TZOFFSETFROM:-0600
TZOFFSETTO:-0700
TZNAME:MST
DTSTART:20251102T080000
END:STANDARD
TZID:America/Denver
BEGIN:DAYLIGHT
TZOFFSETFROM:-0700
TZOFFSETTO:-0600
TZNAME:MDT
DTSTART:20250309T090000
END:DAYLIGHT
BEGIN:STANDARD
TZOFFSETFROM:-0600
TZOFFSETTO:-0700
TZNAME:MST
DTSTART:20251102T080000
END:STANDARD
END:VTIMEZONE
BEGIN:VEVENT
DTSTART;TZID=America/Edmonton:20250505T180000
DTEND;TZID=America/Edmonton:20250505T200000
DTSTAMP:20260422T233920
CREATED:20250328T184118Z
LAST-MODIFIED:20250328T184118Z
UID:10002499-1746468000-1746475200@cattailcrossing.ca
SUMMARY:Cinco De Mayo - Monday\, 5th of May 2025
DESCRIPTION:Join us for an exciting Cinco de Mayo Paint Nite at Out of Bounds Restaurant on May 5 from 6 PM to 8 PM. This vibrant evening will be filled with painting\, great food\, refreshing drinks\, and plenty of fun. Participants will receive all necessary supplies\, artist instruction\, and one beverage with their ticket purchase. To add to the celebration\, we’re hosting a Best Costume contest with exciting prizes\, so come dressed in your most festive attire. \n\n\nDate: Monday\, 5th of May 2025\nTime: 6 PM – 8 PM\nTickets: $55 + GST & Fees\n\n\nReserve your spot today and get ready for a night of creativity and celebration.
URL:https://cattailcrossing.ca/event/cinco-de-mayo-monday-5th-of-may-2025/
LOCATION:Cattail Crossing\, 24427 Township Rd 542\,\, Edmonton\, Alberta\, T8T 1L4\, Canada
ATTACH;FMTTYPE=image/jpeg:https://cattailcrossing.ca/wp-content/uploads/2025/03/Title.jpg
END:VEVENT
BEGIN:VEVENT
DTSTART;TZID=America/Edmonton:20250511T090000
DTEND;TZID=America/Edmonton:20250511T140000
DTSTAMP:20260422T233920
CREATED:20250402T203736Z
LAST-MODIFIED:20250402T203736Z
UID:10002500-1746954000-1746972000@cattailcrossing.ca
SUMMARY:Mother's Day Brunch Buffet - Sunday\, 11th of May 2025
DESCRIPTION:Celebrate Mom this Mother’s Day with a delicious brunch buffet at Cattail Crossing’s Out of Bounds Restaurant!\nEnjoy a spread of assorted pastries\, fresh fruit\, waffles\, bacon\, sausage\, smoked salmon\, hash browns\, scrambled eggs\, chilaquiles\, and eggs Benedict. Our Mother’s Day brunch includes a coffee\, tea\, water\, and juice station\, along with full bar service for those who’d like to toast to Mom with a mimosa or a favourite cocktail. \nPricing is $55 per person plus GST and 20% gratuity. Children 12 and under dine for $30 plus GST and 20% gratuity\, while infants 4 and under eat for free. \nReservations are highly recommended—secure your table and make this Mother’s Day one to remember! \nSunday\, May 11th 9AM – 2PM 🙂
URL:https://cattailcrossing.ca/event/mothers-day-brunch-buffet-sunday-11th-of-may-2025/
LOCATION:Cattail Crossing\, 24427 Township Rd 542\,\, Edmonton\, Alberta\, T8T 1L4\, Canada
ATTACH;FMTTYPE=image/jpeg:https://cattailcrossing.ca/wp-content/uploads/2025/04/Title.jpg
END:VEVENT
BEGIN:VEVENT
DTSTART;TZID=America/Denver:20250517T170000
DTEND;TZID=America/Denver:20250517T233000
DTSTAMP:20260422T233920
CREATED:20250501T183243Z
LAST-MODIFIED:20250501T183517Z
UID:10002502-1747501200-1747524600@cattailcrossing.ca
SUMMARY:An Indigenous Feast - Saturday\, 17th of May 2025
DESCRIPTION:Join us for the 6th dinner of our Passport to Global Flavours dinner series\, where we’re bringing you a truly unique Indigenous feast—Out of Bounds style! Guest chef Chef Holly Holt will take you on a culinary journey with a menu that celebrates the rich\, bold flavors of the land. From a refreshing “A Very Prairie Welcome” cocktail to a decadent Strawberry Haskap Pavlova for dessert\, every dish highlights the beauty and bounty of Indigenous ingredients. This is an unforgettable evening of flavors\, stories\, and community. Reserve your spot and experience the heart of Indigenous cuisine like never before! \n\nDate: Saturday\, May 17\, 2025\nTime: 5PM onwards\nTickets: $90 + GST & Fees\n\nSpots fill up fast for these dinners\, so reserve your seats now through OpenTable by clicking the link at the bottom of the page!
URL:https://cattailcrossing.ca/event/an-indigenous-feast-saturday-17th-of-may-2025/
LOCATION:Cattail Crossing\, 24427 Township Rd 542\,\, Edmonton\, Alberta\, T8T 1L4\, Canada
ATTACH;FMTTYPE=image/png:https://cattailcrossing.ca/wp-content/uploads/2025/05/Screenshot-2025-05-01-at-12.31.51-PM.png
END:VEVENT
END:VCALENDAR